BEGIN:VCALENDAR
VERSION:2.0
PRODID:-//eventon.com NONSGML v1.0//EN
CALSCALE:GREGORIAN
METHOD:PUBLISH
BEGIN:VEVENT
UID:69ed14b6efdbc
DTSTAMP:20260425T192334Z
DTSTART:20221122T183000Z
DTEND:20221122T200000Z
LOCATION:
SUMMARY:Taller: Oratoria
DESCRIPTION:Taller: Oratoria\nhttps://formacionesin.es/events/taller-orator
 ia/
URL:https://formacionesin.es/events/taller-oratoria/
END:VEVENT
END:VCALENDAR